BEGIN:VCALENDAR
VERSION:2.0
PRODID:-//Wessex Cave Club - ECPv6.15.20//NONSGML v1.0//EN
CALSCALE:GREGORIAN
METHOD:PUBLISH
X-WR-CALNAME:Wessex Cave Club
X-ORIGINAL-URL:https://wessex-cave-club.org
X-WR-CALDESC:Events for Wessex Cave Club
REFRESH-INTERVAL;VALUE=DURATION:PT1H
X-Robots-Tag:noindex
X-PUBLISHED-TTL:PT1H
BEGIN:VTIMEZONE
TZID:Europe/London
BEGIN:DAYLIGHT
TZOFFSETFROM:+0000
TZOFFSETTO:+0100
TZNAME:BST
DTSTART:20220327T010000
END:DAYLIGHT
BEGIN:STANDARD
TZOFFSETFROM:+0100
TZOFFSETTO:+0000
TZNAME:GMT
DTSTART:20221030T010000
END:STANDARD
BEGIN:DAYLIGHT
TZOFFSETFROM:+0000
TZOFFSETTO:+0100
TZNAME:BST
DTSTART:20230326T010000
END:DAYLIGHT
BEGIN:STANDARD
TZOFFSETFROM:+0100
TZOFFSETTO:+0000
TZNAME:GMT
DTSTART:20231029T010000
END:STANDARD
BEGIN:DAYLIGHT
TZOFFSETFROM:+0000
TZOFFSETTO:+0100
TZNAME:BST
DTSTART:20240331T010000
END:DAYLIGHT
BEGIN:STANDARD
TZOFFSETFROM:+0100
TZOFFSETTO:+0000
TZNAME:GMT
DTSTART:20241027T010000
END:STANDARD
END:VTIMEZONE
BEGIN:VEVENT
DTSTART;TZID=Europe/London:20230428T080000
DTEND;TZID=Europe/London:20230501T170000
DTSTAMP:20260419T144634
CREATED:20230220T192227Z
LAST-MODIFIED:20230220T192227Z
UID:5962-1682668800-1682960400@wessex-cave-club.org
SUMMARY:Berger Training Yorkshire
DESCRIPTION:If you are planning to come out to the Berger this summer then why not join us at the YSS in Yorkshire for a training weekend? This will be an ideal opportunity to brush up on your SRT skills and also meet some of the other members who will be going out to the Berger. \nAlso open to others. \nFull details can be found here
URL:https://wessex-cave-club.org/event/berger-training-yorkshire/
LOCATION:Yorkshire\, BPC\, BD24 0EU
END:VEVENT
BEGIN:VEVENT
DTSTART;VALUE=DATE:20230505
DTEND;VALUE=DATE:20230509
DTSTAMP:20260419T144634
CREATED:20230327T084844Z
LAST-MODIFIED:20230327T084844Z
UID:6156-1683244800-1683590399@wessex-cave-club.org
SUMMARY:Hut Booking
DESCRIPTION:TSG:  10 guests – Friday\, Saturday & Sunday nights – Chloe Goodman —-
URL:https://wessex-cave-club.org/event/hut-booking-189/
END:VEVENT
BEGIN:VEVENT
DTSTART;VALUE=DATE:20230513
DTEND;VALUE=DATE:20230515
DTSTAMP:20260419T144634
CREATED:20230504T082413Z
LAST-MODIFIED:20230504T082413Z
UID:6237-1683936000-1684108799@wessex-cave-club.org
SUMMARY:Hut Booking
DESCRIPTION:Luke Edwards plus 5 people – Saturday night only—-
URL:https://wessex-cave-club.org/event/hut-booking-194/
END:VEVENT
BEGIN:VEVENT
DTSTART;TZID=Europe/London:20230513T100000
DTEND;TZID=Europe/London:20230513T170000
DTSTAMP:20260419T144634
CREATED:20221215T121809Z
LAST-MODIFIED:20221215T121809Z
UID:5762-1683972000-1683997200@wessex-cave-club.org
SUMMARY:Second Saturday
DESCRIPTION:Swildon’s – Northwest Stream Passage. \nDuration – 4 – 5 hours. \nLocation – Meet at Upper Pitts at 10:00. \nThis trip is to the infrequently visited Northwest Stream Passage in Swildon’s. \nIt is a moderately sporting trip involving passing through Sump 1\, climbing the Landing and then tackling a few squeezes and ducks. \nThe aim would be to have a good look at Heaven and Hell passage. If time permits then we can also check out the Upstream Duck and Dip Tubes. \nNo special equipment is required\, although a belay belt is recommended for the ladder pitches and warm kit is recommended as it is a very wet trip. \nA goodwill fee is payable to the landowner (£1 per person).
URL:https://wessex-cave-club.org/event/second-saturday-38/
LOCATION:Upper Pitts
END:VEVENT
BEGIN:VEVENT
DTSTART;VALUE=DATE:20230519
DTEND;VALUE=DATE:20230522
DTSTAMP:20260419T144634
CREATED:20230122T174256Z
LAST-MODIFIED:20230122T174256Z
UID:5882-1684454400-1684713599@wessex-cave-club.org
SUMMARY:Hut Booking
DESCRIPTION:MUSS: 10 guests\, Friday & Saturday nights – Mark Stubbs——
URL:https://wessex-cave-club.org/event/hut-booking-180/
END:VEVENT
BEGIN:VEVENT
DTSTART;TZID=Europe/London:20230522T183000
DTEND;TZID=Europe/London:20230522T203000
DTSTAMP:20260419T144634
CREATED:20230519T172236Z
LAST-MODIFIED:20230519T172236Z
UID:6267-1684780200-1684787400@wessex-cave-club.org
SUMMARY:Tower Booking
DESCRIPTION:MCR: SRT Rigging Practice—
URL:https://wessex-cave-club.org/event/tower-booking-18/
END:VEVENT
BEGIN:VEVENT
DTSTART;TZID=Europe/London:20230523T190000
DTEND;TZID=Europe/London:20230523T210000
DTSTAMP:20260419T144634
CREATED:20230328T100413Z
LAST-MODIFIED:20230328T100452Z
UID:6159-1684868400-1684875600@wessex-cave-club.org
SUMMARY:Committee Meeting
DESCRIPTION:Zoom Meeting. If you wish to attand contact Secretary for details.
URL:https://wessex-cave-club.org/event/committee-meeting-26/
LOCATION:Zoom
END:VEVENT
BEGIN:VEVENT
DTSTART;VALUE=DATE:20230525
DTEND;VALUE=DATE:20230527
DTSTAMP:20260419T144634
CREATED:20230403T162958Z
LAST-MODIFIED:20230403T164234Z
UID:6165-1684972800-1685145599@wessex-cave-club.org
SUMMARY:Hut Booking
DESCRIPTION:Rob Watkins plus 7 people – Thursday night only
URL:https://wessex-cave-club.org/event/hut-booking-190/
END:VEVENT
BEGIN:VEVENT
DTSTART;VALUE=DATE:20230527
DTEND;VALUE=DATE:20230530
DTSTAMP:20260419T144634
CREATED:20230504T082647Z
LAST-MODIFIED:20230504T082647Z
UID:6239-1685145600-1685404799@wessex-cave-club.org
SUMMARY:Hut Booking
DESCRIPTION:Essex Lorry Drivers:  2 WCC & 3 guests\, Saturday & Sunday nights – Jen Allen—-
URL:https://wessex-cave-club.org/event/hut-booking-195/
END:VEVENT
BEGIN:VEVENT
DTSTART;TZID=Europe/London:20230531T183000
DTEND;TZID=Europe/London:20230531T220000
DTSTAMP:20260419T144634
CREATED:20230530T081230Z
LAST-MODIFIED:20230530T081230Z
UID:6271-1685557800-1685570400@wessex-cave-club.org
SUMMARY:Tower Booking
DESCRIPTION:Tower Booking Cheddar Caving Club: Wednesday 31st May (evening) – Dave Cooke
URL:https://wessex-cave-club.org/event/tower-booking-19/
END:VEVENT
END:VCALENDAR