BEGIN:VCALENDAR
VERSION:2.0
PRODID:-//Wessex Cave Club - ECPv6.15.20//NONSGML v1.0//EN
CALSCALE:GREGORIAN
METHOD:PUBLISH
X-ORIGINAL-URL:https://wessex-cave-club.org
X-WR-CALDESC:Events for Wessex Cave Club
REFRESH-INTERVAL;VALUE=DURATION:PT1H
X-Robots-Tag:noindex
X-PUBLISHED-TTL:PT1H
BEGIN:VTIMEZONE
TZID:Europe/London
BEGIN:DAYLIGHT
TZOFFSETFROM:+0000
TZOFFSETTO:+0100
TZNAME:BST
DTSTART:20220327T010000
END:DAYLIGHT
BEGIN:STANDARD
TZOFFSETFROM:+0100
TZOFFSETTO:+0000
TZNAME:GMT
DTSTART:20221030T010000
END:STANDARD
BEGIN:DAYLIGHT
TZOFFSETFROM:+0000
TZOFFSETTO:+0100
TZNAME:BST
DTSTART:20230326T010000
END:DAYLIGHT
BEGIN:STANDARD
TZOFFSETFROM:+0100
TZOFFSETTO:+0000
TZNAME:GMT
DTSTART:20231029T010000
END:STANDARD
BEGIN:DAYLIGHT
TZOFFSETFROM:+0000
TZOFFSETTO:+0100
TZNAME:BST
DTSTART:20240331T010000
END:DAYLIGHT
BEGIN:STANDARD
TZOFFSETFROM:+0100
TZOFFSETTO:+0000
TZNAME:GMT
DTSTART:20241027T010000
END:STANDARD
END:VTIMEZONE
BEGIN:VEVENT
DTSTART;VALUE=DATE:20230407
DTEND;VALUE=DATE:20230411
DTSTAMP:20260419T163909
CREATED:20230223T165850Z
LAST-MODIFIED:20230403T162828Z
UID:5977-1680825600-1681171199@wessex-cave-club.org
SUMMARY:Hut Booking
DESCRIPTION:KUCC: 12 booked guests\, Friday\, Saturday & Sunday nights – Thomas Phillips —- \nColin Breton plus 3 guests\, Friday & Saturday nights—- \nGeorge Blackbourn plus 4 guests\, Friday & Saturday nights—- \n 
URL:https://wessex-cave-club.org/event/hut-booking-185/
END:VEVENT
BEGIN:VEVENT
DTSTART;TZID=Europe/London:20230408T100000
DTEND;TZID=Europe/London:20230408T170000
DTSTAMP:20260419T163909
CREATED:20221215T123209Z
LAST-MODIFIED:20221215T123209Z
UID:5769-1680948000-1680973200@wessex-cave-club.org
SUMMARY:Second Saturday
DESCRIPTION:Swildon’s – Vicarage Pot . \nDuration – 3 – 4 hours. \nLocation – Meet at Upper Pitts at 10:00. \nJohn Cooper has very kindly volunteered to lead this trip to the little visited Vicarage Pot with the aim of getting to Vicarage Dig. \nThe trip will involve passing through Sump 1\, climbing up the Landing and crossing Vicarage Pot. \nThe passages the other side of Vicarage Pot are quite interesting. \nNo special equipment is required\, although a belay belt is recommended for the ladder pitches and warm kit is essential as we will be going through the sump. \nA goodwill fee is payable to the landowner (£1 per person).
URL:https://wessex-cave-club.org/event/second-saturday-37/
LOCATION:Upper Pitts
END:VEVENT
BEGIN:VEVENT
DTSTART;VALUE=DATE:20230412
DTEND;VALUE=DATE:20230414
DTSTAMP:20260419T163909
CREATED:20230409T085942Z
LAST-MODIFIED:20230409T085942Z
UID:6167-1681257600-1681430399@wessex-cave-club.org
SUMMARY:Hut Booking
DESCRIPTION:Elizabeth Cummings plus one\, Wednesday night only—–
URL:https://wessex-cave-club.org/event/hut-booking-191/
END:VEVENT
BEGIN:VEVENT
DTSTART;VALUE=DATE:20230414
DTEND;VALUE=DATE:20230417
DTSTAMP:20260419T163909
CREATED:20230109T180407Z
LAST-MODIFIED:20230414T082703Z
UID:5821-1681430400-1681689599@wessex-cave-club.org
SUMMARY:Hut Booking
DESCRIPTION:Essex Lorry Drivers: 16/17 guests plus 5 WCC members\, Friday & Saturday nights – Jen Allen—-
URL:https://wessex-cave-club.org/event/hut-booking-176/
END:VEVENT
BEGIN:VEVENT
DTSTART;TZID=Europe/London:20230420T080000
DTEND;TZID=Europe/London:20230420T120000
DTSTAMP:20260419T163909
CREATED:20230418T155159Z
LAST-MODIFIED:20230418T155159Z
UID:6185-1681977600-1681992000@wessex-cave-club.org
SUMMARY:Electricity Supply Interuption
DESCRIPTION:We have been notified of a planned interuption of supply 8am to 12noon.
URL:https://wessex-cave-club.org/event/electricity-supply-interuption/
LOCATION:Upper Pitts
END:VEVENT
BEGIN:VEVENT
DTSTART;VALUE=DATE:20230421
DTEND;VALUE=DATE:20230424
DTSTAMP:20260419T163909
CREATED:20221221T154605Z
LAST-MODIFIED:20221221T154605Z
UID:5782-1682035200-1682294399@wessex-cave-club.org
SUMMARY:Hut Booking
DESCRIPTION:CDG:  20 guests\, Friday & Saturday nights – Claire Cohen—-
URL:https://wessex-cave-club.org/event/hut-booking-168/
END:VEVENT
BEGIN:VEVENT
DTSTART;TZID=Europe/London:20230428T080000
DTEND;TZID=Europe/London:20230501T170000
DTSTAMP:20260419T163909
CREATED:20230220T192227Z
LAST-MODIFIED:20230220T192227Z
UID:5962-1682668800-1682960400@wessex-cave-club.org
SUMMARY:Berger Training Yorkshire
DESCRIPTION:If you are planning to come out to the Berger this summer then why not join us at the YSS in Yorkshire for a training weekend? This will be an ideal opportunity to brush up on your SRT skills and also meet some of the other members who will be going out to the Berger. \nAlso open to others. \nFull details can be found here
URL:https://wessex-cave-club.org/event/berger-training-yorkshire/
LOCATION:Yorkshire\, BPC\, BD24 0EU
END:VEVENT
END:VCALENDAR