BEGIN:VCALENDAR
VERSION:2.0
PRODID:-//Wessex Cave Club - ECPv6.15.20//NONSGML v1.0//EN
CALSCALE:GREGORIAN
METHOD:PUBLISH
X-WR-CALNAME:Wessex Cave Club
X-ORIGINAL-URL:https://wessex-cave-club.org
X-WR-CALDESC:Events for Wessex Cave Club
REFRESH-INTERVAL;VALUE=DURATION:PT1H
X-Robots-Tag:noindex
X-PUBLISHED-TTL:PT1H
BEGIN:VTIMEZONE
TZID:Europe/London
BEGIN:DAYLIGHT
TZOFFSETFROM:+0000
TZOFFSETTO:+0100
TZNAME:BST
DTSTART:20210328T010000
END:DAYLIGHT
BEGIN:STANDARD
TZOFFSETFROM:+0100
TZOFFSETTO:+0000
TZNAME:GMT
DTSTART:20211031T010000
END:STANDARD
BEGIN:DAYLIGHT
TZOFFSETFROM:+0000
TZOFFSETTO:+0100
TZNAME:BST
DTSTART:20220327T010000
END:DAYLIGHT
BEGIN:STANDARD
TZOFFSETFROM:+0100
TZOFFSETTO:+0000
TZNAME:GMT
DTSTART:20221030T010000
END:STANDARD
BEGIN:DAYLIGHT
TZOFFSETFROM:+0000
TZOFFSETTO:+0100
TZNAME:BST
DTSTART:20230326T010000
END:DAYLIGHT
BEGIN:STANDARD
TZOFFSETFROM:+0100
TZOFFSETTO:+0000
TZNAME:GMT
DTSTART:20231029T010000
END:STANDARD
END:VTIMEZONE
BEGIN:VEVENT
DTSTART;VALUE=DATE:20220429
DTEND;VALUE=DATE:20220503
DTSTAMP:20260420T205906
CREATED:20220128T100013Z
LAST-MODIFIED:20220128T100013Z
UID:5191-1651190400-1651535999@wessex-cave-club.org
SUMMARY:Hut Booking
DESCRIPTION:Kent Uni Caving Club: 25 guests\, Friday\, Saturday & Sunday nights – Elif Okutan…..
URL:https://wessex-cave-club.org/event/hut-booking-120/
END:VEVENT
BEGIN:VEVENT
DTSTART;VALUE=DATE:20220428
DTEND;VALUE=DATE:20220430
DTSTAMP:20260420T205906
CREATED:20220422T090202Z
LAST-MODIFIED:20220422T155137Z
UID:5332-1651104000-1651276799@wessex-cave-club.org
SUMMARY:Hut Booking
DESCRIPTION:Helga Palmer: Thursday night only….. \nYSS: 2 people Thusday night only – Sam Lee….
URL:https://wessex-cave-club.org/event/hut-booking-128/
END:VEVENT
BEGIN:VEVENT
DTSTART;TZID=Europe/London:20220427T090000
DTEND;TZID=Europe/London:20220427T180000
DTSTAMP:20260420T205906
CREATED:20220422T090437Z
LAST-MODIFIED:20220422T090437Z
UID:5336-1651050000-1651082400@wessex-cave-club.org
SUMMARY:Hut Booking
DESCRIPTION:9 Day Guests – Andy Sparrow….
URL:https://wessex-cave-club.org/event/hut-booking-130/
END:VEVENT
BEGIN:VEVENT
DTSTART;VALUE=DATE:20220421
DTEND;VALUE=DATE:20220424
DTSTAMP:20260420T205906
CREATED:20220404T083603Z
LAST-MODIFIED:20220404T083603Z
UID:5326-1650499200-1650758399@wessex-cave-club.org
SUMMARY:Hut Booking
DESCRIPTION:Raymond Bell (Usscc) Thursday & Friday nights…..
URL:https://wessex-cave-club.org/event/hut-booking-119/
END:VEVENT
BEGIN:VEVENT
DTSTART;VALUE=DATE:20220420
DTEND;VALUE=DATE:20220428
DTSTAMP:20260420T205906
CREATED:20220306T192219Z
LAST-MODIFIED:20220306T192319Z
UID:5267-1650412800-1651103999@wessex-cave-club.org
SUMMARY:Hut Booking
DESCRIPTION:Tony Seddon plus  3 guests 20th to 27th Inclusive……
URL:https://wessex-cave-club.org/event/hut-booking-124/
END:VEVENT
BEGIN:VEVENT
DTSTART;VALUE=DATE:20220415
DTEND;VALUE=DATE:20220419
DTSTAMP:20260420T205906
CREATED:20211117T124006Z
LAST-MODIFIED:20220405T081356Z
UID:5033-1649980800-1650326399@wessex-cave-club.org
SUMMARY:Hut Booking
DESCRIPTION:TSG:  12 guests\, Friday\, Saturday & Sunday nights – Louise McMahon…… \nOxford Uni Cave Club:  7 guests\, Friday\, Saturday & Sunday nights – Rosa Clements…… \n  \n 
URL:https://wessex-cave-club.org/event/hut-booking-111/
END:VEVENT
BEGIN:VEVENT
DTSTART;TZID=Europe/London:20220409T080000
DTEND;TZID=Europe/London:20220410T170000
DTSTAMP:20260420T205906
CREATED:20220328T182832Z
LAST-MODIFIED:20220328T182832Z
UID:5317-1649491200-1649610000@wessex-cave-club.org
SUMMARY:Starless River
DESCRIPTION:Tony Seddon
URL:https://wessex-cave-club.org/event/starless-river-6/
LOCATION:Upper Pitts
END:VEVENT
BEGIN:VEVENT
DTSTART;TZID=Europe/London:20220409T080000
DTEND;TZID=Europe/London:20220409T170000
DTSTAMP:20260420T205906
CREATED:20211203T195439Z
LAST-MODIFIED:20220403T161017Z
UID:5092-1649491200-1649523600@wessex-cave-club.org
SUMMARY:Second Saturday
DESCRIPTION:Please note Wayne is not available to lead this as he will be caving in Spain. \nEastwater – Unlucky Strike and Mellow Chamber. \nDuration – 3 – 4 hours. \nLocation – Meet at Upper Pitts at 10:00. \nUnlucky Strike and Mellow Chamber are relatively recent discoveries and nicely decorated chambers in the upper series of Eastwater. \nThey are approached by an interesting traverse and sporting climb up a narrow vertical tube. \nNo special equipment is required\, although a belay belt is recommended for the climbs and ladder pitches. \nA goodwill fee of £1 is payable at Eastwater farm.
URL:https://wessex-cave-club.org/event/second-saturday-25/
LOCATION:Upper Pitts
END:VEVENT
BEGIN:VEVENT
DTSTART;VALUE=DATE:20220408
DTEND;VALUE=DATE:20220411
DTSTAMP:20260420T205906
CREATED:20220118T114511Z
LAST-MODIFIED:20220405T081541Z
UID:5169-1649376000-1649635199@wessex-cave-club.org
SUMMARY:Hut Booking
DESCRIPTION:Cambridge Climbing & Caving Club:  9 guests\, Friday & Saturday nights – Matthew Watson…… \nWest Sussex:  4 guests\, Friday & Saturday nights – Thomas Marshall…… \nWSG: Jon Hauser\, Friday & Saturday nights….
URL:https://wessex-cave-club.org/event/hut-booking-116/
END:VEVENT
BEGIN:VEVENT
DTSTART;TZID=Europe/London:20220402T090000
DTEND;TZID=Europe/London:20220402T130000
DTSTAMP:20260420T205906
CREATED:20220301T101231Z
LAST-MODIFIED:20220301T101231Z
UID:5260-1648890000-1648904400@wessex-cave-club.org
SUMMARY:Library Booking
DESCRIPTION:CSCC  Photography Course: 9 people\,  9am – 1pm – David Keegan……
URL:https://wessex-cave-club.org/event/library-booking-22/
END:VEVENT
BEGIN:VEVENT
DTSTART;VALUE=DATE:20220325
DTEND;VALUE=DATE:20220328
DTSTAMP:20260420T205906
CREATED:20220120T171626Z
LAST-MODIFIED:20220324T171652Z
UID:5178-1648166400-1648425599@wessex-cave-club.org
SUMMARY:Hut Booking
DESCRIPTION:Essex Lorry Drivers: 9 people (5 xWCC & 4 guests) Friday & Saturday nights – Jennifer Allen…. \nSteve Richardson – 2 people. Saturday night only….
URL:https://wessex-cave-club.org/event/hut-booking-117/
END:VEVENT
BEGIN:VEVENT
DTSTART;TZID=Europe/London:20220323T143000
DTEND;TZID=Europe/London:20220323T183000
DTSTAMP:20260420T205906
CREATED:20220321T154152Z
LAST-MODIFIED:20220322T090520Z
UID:5287-1648045800-1648060200@wessex-cave-club.org
SUMMARY:Tower Booking
DESCRIPTION:MCG:  2.30pm – 6.30pm – Mark Edwards
URL:https://wessex-cave-club.org/event/tower-booking-15/
END:VEVENT
BEGIN:VEVENT
DTSTART;TZID=Europe/London:20220322T190000
DTEND;TZID=Europe/London:20220322T210000
DTSTAMP:20260420T205906
CREATED:20220302T193825Z
LAST-MODIFIED:20220302T193825Z
UID:5262-1647975600-1647982800@wessex-cave-club.org
SUMMARY:Committee Meeting
DESCRIPTION:Zoom Meeting. Notify Secretary if you wish to attend. \n 
URL:https://wessex-cave-club.org/event/committee-meeting-19/
LOCATION:Online
END:VEVENT
BEGIN:VEVENT
DTSTART;VALUE=DATE:20220318
DTEND;VALUE=DATE:20220321
DTSTAMP:20260420T205906
CREATED:20220127T100346Z
LAST-MODIFIED:20220127T100346Z
UID:5187-1647561600-1647820799@wessex-cave-club.org
SUMMARY:Hut Booking
DESCRIPTION:Adventure & Expo Plymouth Uni: 25 Booked guests (plus probably 2 x Wessex Members with 2 personal guests) – Joseph McComb……
URL:https://wessex-cave-club.org/event/hut-booking-118/
END:VEVENT
BEGIN:VEVENT
DTSTART;TZID=Europe/London:20220312T100000
DTEND;TZID=Europe/London:20220312T160000
DTSTAMP:20260420T205906
CREATED:20211203T195216Z
LAST-MODIFIED:20211203T195216Z
UID:5088-1647079200-1647100800@wessex-cave-club.org
SUMMARY:Second Saturday
DESCRIPTION:Manor Farm Swallet. \nDuration – 3 – 4 hours. Location. \nMeet at Upper Pitts at 10:00. \nManor Farm is a sporting cave with some pretty passageways\, challenging climbs and some interesting wildlife in its deepest sections. \nThe cave will be quiet damp in March but doesn’t warrant a wet suit (although younger members may benefits from wearing one). \nThe aim of the trip will be to get to the end of NHASA Gallery and explore beyond if time permits. \nNo special equipment is required\, although a belay belt is recommended for the entrance ladder pitch. \nA goodwill fee is payable to the landowner (£2 per person).
URL:https://wessex-cave-club.org/event/second-saturday-24/
LOCATION:Upper Pitts
END:VEVENT
BEGIN:VEVENT
DTSTART;TZID=Europe/London:20220312T080000
DTEND;TZID=Europe/London:20220313T170000
DTSTAMP:20260420T205906
CREATED:20220228T192039Z
LAST-MODIFIED:20220228T192039Z
UID:5254-1647072000-1647190800@wessex-cave-club.org
SUMMARY:Starless River
DESCRIPTION:Tony Seddon
URL:https://wessex-cave-club.org/event/starless-river-5/
LOCATION:Upper Pitts
END:VEVENT
BEGIN:VEVENT
DTSTART;VALUE=DATE:20220311
DTEND;VALUE=DATE:20220314
DTSTAMP:20260420T205906
CREATED:20220307T151856Z
LAST-MODIFIED:20220311T134735Z
UID:5269-1646956800-1647215999@wessex-cave-club.org
SUMMARY:Hut Booking
DESCRIPTION:West Sussex: 10 people (6 x WCC & 4 personal guests) – Sam Drake….. \nOxford Uni CC: 4 people\, Friday & Saturday nights – Vlad Catanae…….
URL:https://wessex-cave-club.org/event/hut-booking-125/
END:VEVENT
BEGIN:VEVENT
DTSTART;VALUE=DATE:20220305
DTEND;VALUE=DATE:20220307
DTSTAMP:20260420T205906
CREATED:20220110T094305Z
LAST-MODIFIED:20220110T094629Z
UID:5153-1646438400-1646611199@wessex-cave-club.org
SUMMARY:Tower Booking
DESCRIPTION:CHECC – Tower Booking – Saturday & Sunday….
URL:https://wessex-cave-club.org/event/tower-booking-14/
END:VEVENT
BEGIN:VEVENT
DTSTART;VALUE=DATE:20220304
DTEND;VALUE=DATE:20220307
DTSTAMP:20260420T205906
CREATED:20220110T094527Z
LAST-MODIFIED:20220303T161227Z
UID:5155-1646352000-1646611199@wessex-cave-club.org
SUMMARY:Hut Booking
DESCRIPTION:CHECC: 5 guests\, Friday & Saturday nights – Rob Watson….. \nWSG: 2 guests\, Friday & Saturday nights – Jack Sherlock…… \n 
URL:https://wessex-cave-club.org/event/hut-booking-113/
END:VEVENT
BEGIN:VEVENT
DTSTART;TZID=Europe/London:20220228T190000
DTEND;TZID=Europe/London:20220228T210000
DTSTAMP:20260420T205906
CREATED:20220201T124713Z
LAST-MODIFIED:20220201T124713Z
UID:5198-1646074800-1646082000@wessex-cave-club.org
SUMMARY:Common Room Booking
DESCRIPTION:MCR  Booking  – Use of the Common Room 7pm- 9pm – Mark Helmore…
URL:https://wessex-cave-club.org/event/common-room-booking-2/
END:VEVENT
BEGIN:VEVENT
DTSTART;VALUE=DATE:20220225
DTEND;VALUE=DATE:20220228
DTSTAMP:20260420T205906
CREATED:20210917T084108Z
LAST-MODIFIED:20220216T180745Z
UID:4892-1645747200-1646006399@wessex-cave-club.org
SUMMARY:Hut Booking
DESCRIPTION:Kent University Caving Caving Club/Mountaineering Club: – 24? guests\, Friday & Saturday nights\, William Dewdney…… \nJenny Plumb: – Saturday night only…..
URL:https://wessex-cave-club.org/event/hut-booking-105/
END:VEVENT
BEGIN:VEVENT
DTSTART;VALUE=DATE:20220218
DTEND;VALUE=DATE:20220221
DTSTAMP:20260420T205906
CREATED:20210812T170333Z
LAST-MODIFIED:20220219T125046Z
UID:4765-1645142400-1645401599@wessex-cave-club.org
SUMMARY:Hut Booking
DESCRIPTION:Dan Clark:  group of 6 guests (dads and teenagers) – Saturday night only…..
URL:https://wessex-cave-club.org/event/hut-booking-101/
END:VEVENT
BEGIN:VEVENT
DTSTART;TZID=Europe/London:20220212T100000
DTEND;TZID=Europe/London:20220212T160000
DTSTAMP:20260420T205906
CREATED:20211203T194904Z
LAST-MODIFIED:20211203T195004Z
UID:5086-1644660000-1644681600@wessex-cave-club.org
SUMMARY:Second Saturday
DESCRIPTION:Eastwater – Twin Verticals / Dolphin Pot Exchange. \nDuration – 3 – 4 hours. \nLocation – Meet at Upper Pitts at 10:00. \nThis trip will be the traditional trip to the 13 pots with an exchange between the Twin Vertical and Dolphin Pot routes. \nIf enough people attend then we will split into four teams\, two rigging teams and two derigging teams. \nNo special equipment is required\, although a belay belt is recommended for the ladder pitches. \nA goodwill fee is payable to the landowner (£1 per person).
URL:https://wessex-cave-club.org/event/second-saturday-23/
LOCATION:Upper Pitts
END:VEVENT
BEGIN:VEVENT
DTSTART;TZID=Europe/London:20220212T080000
DTEND;TZID=Europe/London:20220213T170000
DTSTAMP:20260420T205906
CREATED:20220206T212423Z
LAST-MODIFIED:20220206T212423Z
UID:5207-1644652800-1644771600@wessex-cave-club.org
SUMMARY:Starless River
DESCRIPTION:Tony Seddon
URL:https://wessex-cave-club.org/event/starless-river-4/
LOCATION:Upper Pitts
END:VEVENT
BEGIN:VEVENT
DTSTART;VALUE=DATE:20220212
DTEND;VALUE=DATE:20220214
DTSTAMP:20260420T205906
CREATED:20220110T152953Z
LAST-MODIFIED:20220110T162046Z
UID:5157-1644624000-1644796799@wessex-cave-club.org
SUMMARY:Library Booking
DESCRIPTION:BCRA Surveying Group – Advanced Surveying Weekend. Library Booking for Saturday & Sunday…..
URL:https://wessex-cave-club.org/event/library-booking-21/
END:VEVENT
BEGIN:VEVENT
DTSTART;VALUE=DATE:20220211
DTEND;VALUE=DATE:20220214
DTSTAMP:20260420T205906
CREATED:20211111T182422Z
LAST-MODIFIED:20220210T172658Z
UID:5022-1644537600-1644796799@wessex-cave-club.org
SUMMARY:Hut Booking
DESCRIPTION:Imperial College Caving Club: 12 guests & 2 WCC  for Friday & Saturday nights – Matti Mitropoulos….. \n1 guest for Surveying Course (Wookey)\, Friday & Saturday nights…. \nSWCC: 1 guest for Surveying Course (Tarquin Wilton-Jones)\, Friday & Saturday nights…… \nCPC: 2 guests\, Friday & Saturday nights – Rebecca Lawson…. \nCroydon Caving Club: 1 guest  (Andrey Kozhenkov)\, Friday & Saturday nights….. \nJon Hauser (WSG): Friday & Saturday nights…… \n 
URL:https://wessex-cave-club.org/event/hut-booking-110/
END:VEVENT
BEGIN:VEVENT
DTSTART;TZID=Europe/London:20220205T100000
DTEND;TZID=Europe/London:20220205T150000
DTSTAMP:20260420T205906
CREATED:20220118T192418Z
LAST-MODIFIED:20220118T192657Z
UID:5173-1644055200-1644073200@wessex-cave-club.org
SUMMARY:Library & Tower Booking
DESCRIPTION:MCR – Library and Tower Booking….
URL:https://wessex-cave-club.org/event/library-tower-booking-2/
END:VEVENT
BEGIN:VEVENT
DTSTART;VALUE=DATE:20220204
DTEND;VALUE=DATE:20220207
DTSTAMP:20260420T205906
CREATED:20211111T182225Z
LAST-MODIFIED:20220111T105143Z
UID:5020-1643932800-1644191999@wessex-cave-club.org
SUMMARY:Hut Booking
DESCRIPTION:YSS – 6 guests for Friday & Saturday nights- Sam Lee…… \n 
URL:https://wessex-cave-club.org/event/hut-booking-109/
END:VEVENT
BEGIN:VEVENT
DTSTART;TZID=Europe/London:20220128T180000
DTEND;TZID=Europe/London:20220130T180000
DTSTAMP:20260420T205906
CREATED:20211203T201255Z
LAST-MODIFIED:20211204T174814Z
UID:5098-1643392800-1643565600@wessex-cave-club.org
SUMMARY:Devon 2022
DESCRIPTION:Les has arranged a Wessex weekend of caving and socialising in Devon. \nDue to the local abundance of Tribute (one of many fine local ales) this will be more of a social event than a full-on caving event. However there will certainly be lots of caving and mine exploration available. \nFor those who have not caved in Devon before it will be a worthwhile experience. For those that have then there is always the Tribute! \nAccommodation: Devon Speleological Society Bunk House\, Buckfastleigh (see https://www.southdartmoorbunkhouse.co.uk/) \nFor more information please contact Les Williams (les@les.williams.name) or Wayne Starsmore (wayne@cuckoocleeves.uk).
URL:https://wessex-cave-club.org/event/devon-2022/
LOCATION:Devon
END:VEVENT
BEGIN:VEVENT
DTSTART;VALUE=DATE:20220128
DTEND;VALUE=DATE:20220131
DTSTAMP:20260420T205906
CREATED:20211126T161000Z
LAST-MODIFIED:20220106T103727Z
UID:5065-1643328000-1643587199@wessex-cave-club.org
SUMMARY:Hut Booking
DESCRIPTION:Cardiff Uni Caving Club – 20 guests\, Friday & Saturday nights – Thomas Phillips…. \nJames Kirkpatrick – 5 guests\, Saturday night only….
URL:https://wessex-cave-club.org/event/hut-booking-112/
END:VEVENT
END:VCALENDAR