BEGIN:VCALENDAR
VERSION:2.0
PRODID:-//Wessex Cave Club - ECPv6.15.20//NONSGML v1.0//EN
CALSCALE:GREGORIAN
METHOD:PUBLISH
X-WR-CALNAME:Wessex Cave Club
X-ORIGINAL-URL:https://wessex-cave-club.org
X-WR-CALDESC:Events for Wessex Cave Club
REFRESH-INTERVAL;VALUE=DURATION:PT1H
X-Robots-Tag:noindex
X-PUBLISHED-TTL:PT1H
BEGIN:VTIMEZONE
TZID:Europe/London
BEGIN:DAYLIGHT
TZOFFSETFROM:+0000
TZOFFSETTO:+0100
TZNAME:BST
DTSTART:20220327T010000
END:DAYLIGHT
BEGIN:STANDARD
TZOFFSETFROM:+0100
TZOFFSETTO:+0000
TZNAME:GMT
DTSTART:20221030T010000
END:STANDARD
BEGIN:DAYLIGHT
TZOFFSETFROM:+0000
TZOFFSETTO:+0100
TZNAME:BST
DTSTART:20230326T010000
END:DAYLIGHT
BEGIN:STANDARD
TZOFFSETFROM:+0100
TZOFFSETTO:+0000
TZNAME:GMT
DTSTART:20231029T010000
END:STANDARD
BEGIN:DAYLIGHT
TZOFFSETFROM:+0000
TZOFFSETTO:+0100
TZNAME:BST
DTSTART:20240331T010000
END:DAYLIGHT
BEGIN:STANDARD
TZOFFSETFROM:+0100
TZOFFSETTO:+0000
TZNAME:GMT
DTSTART:20241027T010000
END:STANDARD
END:VTIMEZONE
BEGIN:VEVENT
DTSTART;TZID=Europe/London:20230602T080000
DTEND;TZID=Europe/London:20230604T170000
DTSTAMP:20260419T132143
CREATED:20230220T192612Z
LAST-MODIFIED:20230220T192612Z
UID:5964-1685692800-1685898000@wessex-cave-club.org
SUMMARY:Berger Training Wales
DESCRIPTION:If you are planning to come out to the Berger this summer then why not join us at the SWCC in Wales for a training weekend? \nThis will be an ideal opportunity to test your stamina and also meet some of the other members who will be going out to the Berger. \nOthers also welcome. \nFull details can be found here
URL:https://wessex-cave-club.org/event/berger-training-wales/
LOCATION:Wales
END:VEVENT
END:VCALENDAR